BEGIN:VCALENDAR
PRODID:-//Fachstelle BKM //NONSGML v1.0//EN
CALSCALE:GREGORIAN
X-WR-CALNAME:Fachstelle BKM 
VERSION:2.0
BEGIN:VEVENT
UID:flyer-gestalten-mit-wow-faktor-leicht-gemacht-mit-canva
DTSTAMP:20260423T141943Z
DTSTART:20261128T090000
DTEND:20261128T160000
LOCATION:Fachstelle BKM, Landhausstrasse 15, 6340 Baar
SUMMARY:Flyer gestalten mit Wow-Faktor – leicht gemacht mit Canva
DESCRIPTION:Flyer gestalten mit Wow-Faktor – leicht gemacht mit Canva
URL:https://www.fachstelle-bkm.ch/events/flyer-gestalten-mit-wow-faktor-leicht-gemacht-mit-canva
END:VEVENT
END:VCALENDAR
